Workbook

Sheet Work Parameters
B2: Work Parameters
B3: Review your employment contract for this information. You may enter fractions of a day (e.g., .25, .33, .5, .75), if needed.
B4: Number of Days I'm Contracted to Work This Year | D4: Number of Hours in My Workday (counting lunch) | F4: Number of 4 Week Periods in My Contract (if I was full time).
B6: Number of Days I'm Contracted to Work Each Week | E6: Number of Weeks I'm Contracted to Work Each Year
B8: Calculate Likely Time Away From Work
B9: Estimate how many days you expect to be away from work this year. You can input part-day absences as well (e.g., .25, .33, .50, .75). Look at trends in your absences over time. Enter 0 (zero) if a qualified substitute will be hired to replace you during your absences.
B10: Number of Sick Days I'll Likely Take This Year | D10: Number of Personal Days I'll Likely Take This Year | F10: Number of Professional Development Days I'll Likely Take This Year
B12: Number of Calamity Days I'll Likely Have This Year | D12: Number of Other Days Away from Work This Year (e.g., jury duty) | F12: Please specify 'other days away'
B15: Total Days Available to Work Per Year
B16: =B5-B11-D11-F11-B13-D13 -> 0
B17: Total Minutes Available to Work Per Year
B18: =B16*D5*60 -> 0
B19: Number of Weeks I'm Actually Available to Work a Year
B20: =B16/5 -> 0

Sheet Standard Deductions
B2: Standard Deductions
B3: After conducting a time study, enter in the time you need for each activity. You may also use reasonable standard values to calculate the needed time. Insert times as minutes per week.
B4: I need this much time (minutes) per week for my lunch (per my employment contract).
B6: I need this much time (minutes) per week for my workload analysis.
B8: I need this much time (minutes) per week to complete school duties (e.g., cafeteria monitor, mentoring novices, PTA representative).
B10: I need this much time (minutes) per week to attend and prepare for staff meetings.
B12: I need this much time (minutes) per week for supervision activities.
B14: I need this much time (minutes) per week to transition between students and/or settings (e.g., setup/tear down of equipment, cleanup of materials, transition in/out of the building).
B16: I need this much time (minutes) per week to travel between between buildings or jobsites.
B18: I need this much time (minutes) per week for preparation and delivery of Tier 1 response-to-intervention (preventative services) and associated professional development activities.
B20: I need this much time (minutes) per week for 'other' standard deductions (e.g., administrative tasks, strategic planning).
B21: Please specify the 'other' standard deduction:
B23: Subtotal: Minutes Needed for Standard Deductions Per Week
B24: =(SUM(B5+B7+B9+B11+B13+B15+B17+B19+B22)) -> 0
B26: Number of Minutes Needed Per Contract for Standard Deducations
B27: =B24*'Work Parameters'!E7 -> 0

Sheet Planning
B2: Planning Time
B3: After conducting a time study, enter in the time you need for each activity. You may also use reasonable standard values to calculate the needed time. Insert times as minutes per week.
B4: I need this much time (minutes) per week to design work for my students:
B6: I need this much time (minutes) per week for progess documentation, reporting and evaluation of student progress:
B8: I need this much time (minutes) per week for conferencing and team planning:
B10: I need this much time (minutes) per week for collaborative planning for the development of lesson plans:
B12: I need this much time (minutes) per week for ongoing professional development and shared learning:
B15: Subtotal: Minutes Needed for Planning Time Per Week
B16: =(SUM(B5+B7+B9+B11+B13)) -> 0
B18: Number of Minutes Needed Per Contract for Planning
B19: =B16*'Work Parameters'!E7 -> 0

Sheet Workload Duties
B2: Workload Duties
B3: After conducting a time study, enter in the time you need for each activity. You may also use reasonable standard values to calculate the needed time. Insert times as minutes needed per 4 week period of time (i.e., 20 consecutive school days).
B4: I need this much time (minutes) per 4 week period to complete evaluations and assessments:
B6: I need this much time (minutes) per 4 week period for secondary transition assessment, planning and services:
B8: I need this much time (minutes) per 4 week period for conferences/meetings (NOT related to planning time):
B10: I need this much time (minutes) per 4 week period for documentation for individual students (NOT related to planning time):
B12: I need this much time (minutes) per 4 week period for third party billing requirements:
B14: I need this much time (minutes) per 4 week period for screenings:
B16: I need this much time (minutes) per 4 week period for 'other' workload duties (please specify):
B18: Subtotal: Minutes Needed for Workload Duties Per 4 Week Period (For Full Time Only)
B19: =(SUM(B5+B7+B9+B11+B13+B15+B17)) -> 0
B20: Minutes Needed for Workload Duties Per Week | F20: =B19/4 -> 0
B21: Number of Minutes Needed Per Contract for Workload Duties
B22: =F20*'Work Parameters'!E7 -> 0

Sheet Services and Interventions
B2: Direct and Indirect Services and Interventions
B3: Student, Group, or Instructional Period (provide students' initials) | E3: Minutes per 4 week period (i.e., 20 consecutive school days)
B61: Subtotal: Minutes Needed for Direct and Indirect Services Per 4 Week Period
B62: =(SUM(E4:G60)) -> 0
B63: Minutes Needed Per Week | E63: =B62/4 -> 0
B64: Number of Minutes Needed Per Contract for Services and Interventions
B65: =E63*'Work Parameters'!E7 -> 0

Sheet Caseload Calculator
B1: Caseload Calculator For Preschool and School-aged Service Providers Serving Mixed Caseloads
B2: Determine your weighted caseload by filling in the table that corresponds to your profession. Ensure that you do not exceed the maximum caseload you are permitted to carry by Ohio Administrative Code 3301-51-09(I)(2-3). This calculator should only be used by providers with mixed caseloads.
B4: SLP | E4: School Psychologist | H4: Audiologist | K4: Occupational Therapist | N4: Physical Therapist | Q4: Orientation/Mobility Instructor
B5: Disability Category: School-aged | C5: Number of Children with Disabilities | E5: Age Category | F5: Number of Children with Disabilities | H5: Age Category | I5: Number of Children with Disabilities | K5: Age Category | L5: Number of Children with Disabilities | N5: Age Category | O5: Number of Children with Disabilities | Q5: Age Category | R5: Number of Children with Disabilities
E6: School-aged | H6: School-aged | K6: School-aged | N6: School-aged | Q6: School-aged
B7: MD | E7: PreK-aged | H7: PreK-aged | K7: PreK-aged | N7: PreK-aged | Q7: PreK-aged
B8: Deaf/Blind | E8: Weighted Caseload | F8: =1.667*F7+F6 -> 0 | H8: Weighted Caseload | I8: =1.333*I7+I6 -> 0 | K8: Weighted Caseload | L8: =1.25*L7+L6 -> 0 | N8: Weighted Caseload | O8: =1.25*O7+O6 -> 0 | Q8: Weighted Caseload | R8: =1.25*R7+R6 -> 0
B9: Deafness
B10: Hearing Impairment
B11: Visual Impairment
B12: Speech-Language | E12: Intervention Specialist Serving Children in Both School/Grade Level Categories
B13: Orthopedic Handicap | E13: Education Level | F13: Disability Category | G13: Enter Number of Children: Case Coordination | I13: Enter Number of Children: Specially Designed Instruction per Instructional Period
B14: Emotional Disturbance
B15: Intellectual Disability | E15: Grade Level: Elementary, Middle or Junior High | F15: ID
B16: Specific Learning Disability | F16: SLD
B17: Autism | F17: Multiple Categories
B18: TBI
B19: Other Health Impairment | F19: All Other Categories
B20: Any Disability Category: PreK-aged | E20: Grade Level: High School | F20: All Categories
B21: Weighted Caseload | C21: =1.6*(C7+C10+C13+C17+C19+C20)+C8+C9+C11+C12+C14+C15+C16+C18 -> 0 | E21: Weighted Caseload | G21: =1.5*(G15+G16+G17)+G19+G20 -> 0 | I21: =(1.33*I15)+(1.5*I17)+I19+I20 -> 0

Sheet Summary
C2: Summary: My Contract
C3: The number of days I am contracted to work per year. | G3: ='Work Parameters'!B5 -> 0
C4: The number of hours in my workday (counting lunch). | G4: ='Work Parameters'!D5 -> 0
C5: The number of 4 week periods in my contract (if full time). | G5: =G3/20 -> 0
C6: The number of weeks in my contract (if full time). | G6: =G3/5 -> 0
C7: The number of minutes I am contracted to work per 4 week period (if full time). | G7: =G4*20*60 -> 0
C8: Summary: My Availability to Work
C9: After considering my likely absences, the number of days I am actually able to work per year. | G9: ='Work Parameters'!B16 -> 0
C10: After considering my likely absences, the average number of days I am available to work per 4 week period (i.e., 20 consecutive school days) if full time. | G10: =20-(G3-G9)/G5 -> #DIV/0!
C11: After considering my likely absences, the number of weeks I am able to work per school year. | G11: ='Work Parameters'!B20 -> 0
C12: After considering my likely absences, the average number of minutes I am available to work per 4 week period. | G12: =G10*G4*60 -> #DIV/0!
C14: Summary: My Weekly Workload | K14: Summary: My Monthly Workload | S14: Summary: My Yearly Workload
C15: The actual number of minutes per week devoted to standard deductions. | G15: ='Standard Deductions'!B24 -> 0 | K15: The actual number of minutes per 4 week period devoted to standard deductions. | O15: =G15*4 -> 0 | S15: The actual number of minutes per year devoted to standard deductions. | W15: =G15*G6 -> 0
C16: The actual number of minutes per week devoted to planning time. | G16: =Planning!B16 -> 0 | K16: The actual number of minutes per 4 week period of time devoted to planning time. | O16: =G16*4 -> 0 | S16: The actual number of minutes per year devoted to planning time. | W16: =G16*G6 -> 0
C17: The actual number of minutes per week devoted to workload duties. | G17: ='Workload Duties'!F20 -> 0 | K17: The actual number of minutes per 4 week period of time devoted to workload duties. | O17: =G17*4 -> 0 | S17: The actual number of minutes per year devoted to workload duties. | W17: =G17*G6 -> 0
C18: The actual number of minutes per week devoted to services and interventions | G18: ='Services and Interventions'!E63 -> 0 | K18: The actual number of minutes per 4 week period of time devoted to services and interventions | O18: =G18*4 -> 0 | S18: The actual number of minutes per year devoted to services and interventions | W18: =G18*G6 -> 0
C19: The total number of hours per week I would need to work to complete my assigned workload. | G19: =(G15+G16+G17+G18)/60 -> 0 | K19: The total number of hours per 4 week period of time I would need to work to complete my assigned workload. | O19: =G19*4 -> 0 | S19: The total number of hours per year I would need to work to complete my assigned workload. | W19: =SUM(W15:W18)/60 -> 0
C20: The total number of minutes per week I would need to work to complete my assigned workload. | G20: =G15+G16+G17+G18 -> 0 | K20: The total number of minutes per 4 week period I would need to work to complete my assigned workload. | O20: =G20*4 -> 0 | S20: The total number of minutes per year I would need to work to complete my assigned workload. | W20: =W15+W16+W17+W18 -> 0
C21: The total number of days per week needed to complete my assigned workload (with no absences). | G21: =G19/G4 -> #DIV/0! | H21: /5 days | K21: The total number of days per 4 week period of time needed to complete my assigned workload (with no absences). | O21: =O19/G4 -> #DIV/0! | P21: /20 days | S21: The total number of days in a year I would need to work to complete my assigned workload (with no absences). | W21: =W19/G4 -> #DIV/0! | X21: =G3 -> 0 | Y21: days
C22: The total number of days per week needed to complete my assigned workload (considering my expected absences). | G22: =G19/G4 -> #DIV/0! | H22: =G9/G6 -> #DIV/0! | I22: days | K22: The total number of days per 4 week period of time needed to complete my assigned workload (considering my expected absences). | O22: =O19/G4 -> #DIV/0! | P22: =G10 -> #DIV/0! | Q22: days | S22: The total number of days per year needed to complete my assigned workload (considering my expected absences). | W22: =W19/G4 -> #DIV/0! | X22: =G9 -> 0 | Y22: days
C23: Percentage of my workload devoted to standard deductions. | G23: =G15/G20 -> #DIV/0! | K23: Percentage of my workload devoted to standard deductions. | O23: =O15/O20 -> #DIV/0! | S23: Percentage of my workload devoted to standard deductions. | W23: =W15/W20 -> #DIV/0!
C24: Percentage of my workload devoted to planning. | G24: =G16/G20 -> #DIV/0! | K24: Percentage of my workload devoted to planning. | O24: =O16/O20 -> #DIV/0! | S24: Percentage of my workload devoted to planning. | W24: =W16/W20 -> #DIV/0!
C25: Percentage of my workload devoted to workload duties. | G25: =G17/G20 -> #DIV/0! | K25: Percentage of my workload devoted to workload duties. | O25: =O17/O20 -> #DIV/0! | S25: Percentage of my workload devoted to workload duties. | W25: =W17/W20 -> #DIV/0!
C26: Percentage of my workload devoted to services and interventions. | G26: =G18/G20 -> #DIV/0! | K26: Percentage of my workload devoted to services and interventions. | O26: =O18/O20 -> #DIV/0! | S26: Percentage of my workload devoted to services and interventions. | W26: =W18/W20 -> #DIV/0!
